BEGIN:VCALENDAR
VERSION:2.0
PRODID:-//St Mary&#039;s Church Oldswinford - ECPv6.15.20//NONSGML v1.0//EN
CALSCALE:GREGORIAN
METHOD:PUBLISH
X-WR-CALNAME:St Mary&#039;s Church Oldswinford
X-ORIGINAL-URL:https://www.stmaryos.org.uk
X-WR-CALDESC:Events for St Mary&#039;s Church Oldswinford
REFRESH-INTERVAL;VALUE=DURATION:PT1H
X-Robots-Tag:noindex
X-PUBLISHED-TTL:PT1H
BEGIN:VTIMEZONE
TZID:Europe/London
BEGIN:DAYLIGHT
TZOFFSETFROM:+0000
TZOFFSETTO:+0100
TZNAME:BST
DTSTART:20250330T010000
END:DAYLIGHT
BEGIN:STANDARD
TZOFFSETFROM:+0100
TZOFFSETTO:+0000
TZNAME:GMT
DTSTART:20251026T010000
END:STANDARD
BEGIN:DAYLIGHT
TZOFFSETFROM:+0000
TZOFFSETTO:+0100
TZNAME:BST
DTSTART:20260329T010000
END:DAYLIGHT
BEGIN:STANDARD
TZOFFSETFROM:+0100
TZOFFSETTO:+0000
TZNAME:GMT
DTSTART:20261025T010000
END:STANDARD
BEGIN:DAYLIGHT
TZOFFSETFROM:+0000
TZOFFSETTO:+0100
TZNAME:BST
DTSTART:20270328T010000
END:DAYLIGHT
BEGIN:STANDARD
TZOFFSETFROM:+0100
TZOFFSETTO:+0000
TZNAME:GMT
DTSTART:20271031T010000
END:STANDARD
END:VTIMEZONE
BEGIN:VEVENT
DTSTART;TZID=Europe/London:20260222T183000
DTEND;TZID=Europe/London:20260222T194500
DTSTAMP:20260419T182112
CREATED:20260120T084020Z
LAST-MODIFIED:20260120T084020Z
UID:1364-1771785000-1771789500@www.stmaryos.org.uk
SUMMARY:A service of Evensong (evening)
DESCRIPTION:Evening service of Evensong
URL:https://www.stmaryos.org.uk/event/2026-02-22-a-service-of-evensong-evening/
LOCATION:St Mary’s Church\, Rectory Road\, Stourbridge\, West Midlands\, DY8 2HA\, United Kingdom
CATEGORIES:Evensong,Worship
ATTACH;FMTTYPE=image/jpeg:https://www.stmaryos.org.uk/wp-content/uploads/2026/01/tea-candles-6886032_1280-1-e1768561665998.jpg
ORGANIZER;CN="St Mary's Church%2C Oldswinford":MAILTO:office@stmaryos.org.uk
END:VEVENT
BEGIN:VEVENT
DTSTART;TZID=Europe/London:20260222T100000
DTEND;TZID=Europe/London:20260222T111500
DTSTAMP:20260419T182112
CREATED:20260120T084019Z
LAST-MODIFIED:20260120T084019Z
UID:1363-1771754400-1771758900@www.stmaryos.org.uk
SUMMARY:Parish Communion (morning)
DESCRIPTION:Parish Holy Communion Service from the Book of Common Worship.
URL:https://www.stmaryos.org.uk/event/2026-02-22-parish-communion-morning/
LOCATION:St Mary’s Church\, Rectory Road\, Stourbridge\, West Midlands\, DY8 2HA\, United Kingdom
CATEGORIES:Communion,Worship
ATTACH;FMTTYPE=image/jpeg:https://www.stmaryos.org.uk/wp-content/uploads/2026/01/PXL_20240421_091848730-scaled-1-1-e1768516811542.jpg
ORGANIZER;CN="St Mary's Church%2C Oldswinford":MAILTO:office@stmaryos.org.uk
END:VEVENT
BEGIN:VEVENT
DTSTART;TZID=Europe/London:20260220T193000
DTEND;TZID=Europe/London:20260220T210000
DTSTAMP:20260419T182112
CREATED:20260120T084004Z
LAST-MODIFIED:20260120T084004Z
UID:1349-1771615800-1771621200@www.stmaryos.org.uk
SUMMARY:Adult Choir Rehearsal
DESCRIPTION:Adult Choir Rehearsal\nOur choir normally rehearses on a Friday evening\, the Junior Choir start rehearsal earlier than the Adult choir and are joined by the Adult Choir. \nMusic plays an important part in the life of St Mary’s Church\, information on joining the choir is available.
URL:https://www.stmaryos.org.uk/event/2026-02-20-adult-choir-rehearsal/
LOCATION:St Mary’s Church\, Rectory Road\, Stourbridge\, West Midlands\, DY8 2HA\, United Kingdom
CATEGORIES:Choir Rehearsal
ATTACH;FMTTYPE=image/jpeg:https://www.stmaryos.org.uk/wp-content/uploads/2026/01/sheet-music-8463988_1280-1-e1768516650436.jpg
ORGANIZER;CN="St Mary's Church%2C Oldswinford":MAILTO:office@stmaryos.org.uk
END:VEVENT
BEGIN:VEVENT
DTSTART;TZID=Europe/London:20260220T180000
DTEND;TZID=Europe/London:20260220T190000
DTSTAMP:20260419T182112
CREATED:20260120T084003Z
LAST-MODIFIED:20260120T084003Z
UID:1348-1771610400-1771614000@www.stmaryos.org.uk
SUMMARY:Youth Club
DESCRIPTION:Youth Club in the Church Hall
URL:https://www.stmaryos.org.uk/event/2026-02-20-youth-club/
LOCATION:St Mary’s Church Hall\, Rectory Road\, Stourbridge\, West Midlands\, DY8 2HA\, United Kingdom
CATEGORIES:Social,Youth Club
ATTACH;FMTTYPE=image/jpeg:https://www.stmaryos.org.uk/wp-content/uploads/2026/01/students-3518726_1280-1-e1768772919456.jpg
ORGANIZER;CN="St Mary's Church%2C Oldswinford":MAILTO:office@stmaryos.org.uk
END:VEVENT
BEGIN:VEVENT
DTSTART;TZID=Europe/London:20260220T160000
DTEND;TZID=Europe/London:20260220T163000
DTSTAMP:20260419T182112
CREATED:20260120T084002Z
LAST-MODIFIED:20260120T084002Z
UID:1347-1771603200-1771605000@www.stmaryos.org.uk
SUMMARY:Evening Prayer
DESCRIPTION:Evening Prayer\nA said service of Evening Prayer.
URL:https://www.stmaryos.org.uk/event/2026-02-20-evening-prayer/
LOCATION:St Mary’s Church\, Rectory Road\, Stourbridge\, West Midlands\, DY8 2HA\, United Kingdom
CATEGORIES:Worship
ORGANIZER;CN="St Mary's Church%2C Oldswinford":MAILTO:office@stmaryos.org.uk
END:VEVENT
BEGIN:VEVENT
DTSTART;TZID=Europe/London:20260220T090000
DTEND;TZID=Europe/London:20260220T093000
DTSTAMP:20260419T182112
CREATED:20260120T084002Z
LAST-MODIFIED:20260120T084002Z
UID:1346-1771578000-1771579800@www.stmaryos.org.uk
SUMMARY:Morning Prayer
DESCRIPTION:Morning Prayer\nA said service of Morning Prayer.
URL:https://www.stmaryos.org.uk/event/2026-02-20-morning-prayer/
LOCATION:St Mary’s Church\, Rectory Road\, Stourbridge\, West Midlands\, DY8 2HA\, United Kingdom
CATEGORIES:Worship
ORGANIZER;CN="St Mary's Church%2C Oldswinford":MAILTO:office@stmaryos.org.uk
END:VEVENT
BEGIN:VEVENT
DTSTART;TZID=Europe/London:20260219T160000
DTEND;TZID=Europe/London:20260219T163000
DTSTAMP:20260419T182112
CREATED:20260120T083945Z
LAST-MODIFIED:20260120T083945Z
UID:1329-1771516800-1771518600@www.stmaryos.org.uk
SUMMARY:Evening Prayer
DESCRIPTION:Evening Prayer\nA said service of Evening Prayer.
URL:https://www.stmaryos.org.uk/event/2026-02-19-evening-prayer/
LOCATION:St Mary’s Church\, Rectory Road\, Stourbridge\, West Midlands\, DY8 2HA\, United Kingdom
CATEGORIES:Worship
ORGANIZER;CN="St Mary's Church%2C Oldswinford":MAILTO:office@stmaryos.org.uk
END:VEVENT
BEGIN:VEVENT
DTSTART;TZID=Europe/London:20260219T103000
DTEND;TZID=Europe/London:20260219T111500
DTSTAMP:20260419T182112
CREATED:20260120T083946Z
LAST-MODIFIED:20260120T083946Z
UID:1330-1771497000-1771499700@www.stmaryos.org.uk
SUMMARY:Holy Communion (morning)
DESCRIPTION:Holy Communion from the Book of Common Prayer.
URL:https://www.stmaryos.org.uk/event/2026-02-19-holy-communion-morning/
LOCATION:St Mary’s Church\, Rectory Road\, Stourbridge\, West Midlands\, DY8 2HA\, United Kingdom
CATEGORIES:Communion,Worship
ATTACH;FMTTYPE=image/jpeg:https://www.stmaryos.org.uk/wp-content/uploads/2026/01/PXL_20240421_091848730-scaled-1-1-e1768516811542.jpg
ORGANIZER;CN="St Mary's Church%2C Oldswinford":MAILTO:office@stmaryos.org.uk
END:VEVENT
BEGIN:VEVENT
DTSTART;TZID=Europe/London:20260219T090000
DTEND;TZID=Europe/London:20260219T093000
DTSTAMP:20260419T182112
CREATED:20260120T083944Z
LAST-MODIFIED:20260120T083944Z
UID:1328-1771491600-1771493400@www.stmaryos.org.uk
SUMMARY:Morning Prayer
DESCRIPTION:Morning Prayer\nA said service of Morning Prayer.
URL:https://www.stmaryos.org.uk/event/2026-02-19-morning-prayer/
LOCATION:St Mary’s Church\, Rectory Road\, Stourbridge\, West Midlands\, DY8 2HA\, United Kingdom
CATEGORIES:Worship
ORGANIZER;CN="St Mary's Church%2C Oldswinford":MAILTO:office@stmaryos.org.uk
END:VEVENT
BEGIN:VEVENT
DTSTART;TZID=Europe/London:20260218T160000
DTEND;TZID=Europe/London:20260218T163000
DTSTAMP:20260419T182112
CREATED:20260120T083932Z
LAST-MODIFIED:20260120T083932Z
UID:1316-1771430400-1771432200@www.stmaryos.org.uk
SUMMARY:Evening Prayer
DESCRIPTION:Evening Prayer\nA said service of Evening Prayer.
URL:https://www.stmaryos.org.uk/event/2026-02-18-evening-prayer/
LOCATION:St Mary’s Church\, Rectory Road\, Stourbridge\, West Midlands\, DY8 2HA\, United Kingdom
CATEGORIES:Worship
ORGANIZER;CN="St Mary's Church%2C Oldswinford":MAILTO:office@stmaryos.org.uk
END:VEVENT
BEGIN:VEVENT
DTSTART;TZID=Europe/London:20260218T090000
DTEND;TZID=Europe/London:20260218T093000
DTSTAMP:20260419T182112
CREATED:20260120T083931Z
LAST-MODIFIED:20260120T083931Z
UID:1315-1771405200-1771407000@www.stmaryos.org.uk
SUMMARY:Morning Prayer
DESCRIPTION:Morning Prayer\nA said service of Morning Prayer.
URL:https://www.stmaryos.org.uk/event/2026-02-18-morning-prayer/
LOCATION:St Mary’s Church\, Rectory Road\, Stourbridge\, West Midlands\, DY8 2HA\, United Kingdom
CATEGORIES:Worship
ORGANIZER;CN="St Mary's Church%2C Oldswinford":MAILTO:office@stmaryos.org.uk
END:VEVENT
BEGIN:VEVENT
DTSTART;TZID=Europe/London:20260217T160000
DTEND;TZID=Europe/London:20260217T163000
DTSTAMP:20260419T182112
CREATED:20260126T082454Z
LAST-MODIFIED:20260126T082454Z
UID:1298-1771344000-1771345800@www.stmaryos.org.uk
SUMMARY:Evening Prayer
DESCRIPTION:Evening Prayer\nA said service of Evening Prayer.
URL:https://www.stmaryos.org.uk/event/2026-02-17-evening-prayer/
LOCATION:St Mary’s Church\, Rectory Road\, Stourbridge\, West Midlands\, DY8 2HA\, United Kingdom
CATEGORIES:Worship
ORGANIZER;CN="St Mary's Church%2C Oldswinford":MAILTO:office@stmaryos.org.uk
END:VEVENT
BEGIN:VEVENT
DTSTART;TZID=Europe/London:20260217T140000
DTEND;TZID=Europe/London:20260217T160000
DTSTAMP:20260419T182112
CREATED:20260126T082454Z
LAST-MODIFIED:20260126T082454Z
UID:1424-1771336800-1771344000@www.stmaryos.org.uk
SUMMARY:Tea on a Tuesday
DESCRIPTION:Tea on a Tuesday\nAll are welcome – held in the Coach House
URL:https://www.stmaryos.org.uk/event/2026-02-17-tea-on-a-tuesday/
LOCATION:Coach House\, Rectory Road\, Stourbridge\, West Midlands\, DY8 2HA\, United Kingdom
CATEGORIES:Social,Tea on a Tuesday
ATTACH;FMTTYPE=image/jpeg:https://www.stmaryos.org.uk/wp-content/uploads/2026/01/tea-5828074_1280-1-e1768773619481.jpg
ORGANIZER;CN="St Mary's Church%2C Oldswinford":MAILTO:office@stmaryos.org.uk
END:VEVENT
BEGIN:VEVENT
DTSTART;TZID=Europe/London:20260217T090000
DTEND;TZID=Europe/London:20260217T093000
DTSTAMP:20260419T182112
CREATED:20260126T082453Z
LAST-MODIFIED:20260126T082453Z
UID:1297-1771318800-1771320600@www.stmaryos.org.uk
SUMMARY:Morning Prayer
DESCRIPTION:Morning Prayer\nA said service of Morning Prayer.
URL:https://www.stmaryos.org.uk/event/2026-02-17-morning-prayer/
LOCATION:St Mary’s Church\, Rectory Road\, Stourbridge\, West Midlands\, DY8 2HA\, United Kingdom
CATEGORIES:Worship
ORGANIZER;CN="St Mary's Church%2C Oldswinford":MAILTO:office@stmaryos.org.uk
END:VEVENT
BEGIN:VEVENT
DTSTART;TZID=Europe/London:20260216T140000
DTEND;TZID=Europe/London:20260216T160000
DTSTAMP:20260419T182112
CREATED:20260120T084335Z
LAST-MODIFIED:20260120T084335Z
UID:1367-1771250400-1771257600@www.stmaryos.org.uk
SUMMARY:Craft and Chat
DESCRIPTION:Craft and Chat\nEveryone welcome – held in the Coach House
URL:https://www.stmaryos.org.uk/event/2026-02-16-craft-and-chat/
LOCATION:Coach House\, Rectory Road\, Stourbridge\, West Midlands\, DY8 2HA\, United Kingdom
CATEGORIES:Craft & Chat,Social
ATTACH;FMTTYPE=image/jpeg:https://www.stmaryos.org.uk/wp-content/uploads/2026/01/sewing-kit-5063401_1280-1-e1768774241270.jpg
ORGANIZER;CN="St Mary's Church%2C Oldswinford":MAILTO:office@stmaryos.org.uk
END:VEVENT
BEGIN:VEVENT
DTSTART;TZID=Europe/London:20260215T183000
DTEND;TZID=Europe/London:20260215T193000
DTSTAMP:20260419T182112
CREATED:20260120T084017Z
LAST-MODIFIED:20260120T084017Z
UID:1361-1771180200-1771183800@www.stmaryos.org.uk
SUMMARY:Taizé or Iona Celtic Service (evening)
DESCRIPTION:A Taizé or Iona Celtic worship service\nA Taizé or Iona Celtic worship service involves sung and chanted prayers\, meditations\, a period of silence\, liturgical readings\, and icons.
URL:https://www.stmaryos.org.uk/event/2026-02-15-taize-or-iona-celtic-service-evening/
LOCATION:St Mary’s Church\, Rectory Road\, Stourbridge\, West Midlands\, DY8 2HA\, United Kingdom
CATEGORIES:Worship
ATTACH;FMTTYPE=image/jpeg:https://www.stmaryos.org.uk/wp-content/uploads/2026/01/candles-492171_1280-1-e1768769670181.jpg
ORGANIZER;CN="St Mary's Church%2C Oldswinford":MAILTO:office@stmaryos.org.uk
END:VEVENT
BEGIN:VEVENT
DTSTART;TZID=Europe/London:20260215T160000
DTEND;TZID=Europe/London:20260215T170000
DTSTAMP:20260419T182112
CREATED:20260120T084018Z
LAST-MODIFIED:20260120T084018Z
UID:1362-1771171200-1771174800@www.stmaryos.org.uk
SUMMARY:Singing Angels (afternoon)
DESCRIPTION:Singing Angels\n \nA multigenerational group for children and adults who love to sing. \nA fun session on the second Sunday of each much including refreshments at no cost.
URL:https://www.stmaryos.org.uk/event/2026-02-15-singing-angels-afternoon/
LOCATION:St Mary’s Church\, Rectory Road\, Stourbridge\, West Midlands\, DY8 2HA\, United Kingdom
CATEGORIES:Family Service
ATTACH;FMTTYPE=image/jpeg:https://www.stmaryos.org.uk/wp-content/uploads/2026/01/singingangels-e1768496539880-1-e1768767763764.jpg
ORGANIZER;CN="St Mary's Church%2C Oldswinford":MAILTO:office@stmaryos.org.uk
END:VEVENT
BEGIN:VEVENT
DTSTART;TZID=Europe/London:20260215T100000
DTEND;TZID=Europe/London:20260215T111500
DTSTAMP:20260419T182112
CREATED:20260120T084017Z
LAST-MODIFIED:20260120T084017Z
UID:1360-1771149600-1771154100@www.stmaryos.org.uk
SUMMARY:Parish Communion (morning)
DESCRIPTION:Parish Holy Communion Service from the Book of Common Worship.
URL:https://www.stmaryos.org.uk/event/2026-02-15-parish-communion-morning/
LOCATION:St Mary’s Church\, Rectory Road\, Stourbridge\, West Midlands\, DY8 2HA\, United Kingdom
CATEGORIES:Communion,Worship
ATTACH;FMTTYPE=image/jpeg:https://www.stmaryos.org.uk/wp-content/uploads/2026/01/PXL_20240421_091848730-scaled-1-1-e1768516811542.jpg
ORGANIZER;CN="St Mary's Church%2C Oldswinford":MAILTO:office@stmaryos.org.uk
END:VEVENT
BEGIN:VEVENT
DTSTART;TZID=Europe/London:20260214T100000
DTEND;TZID=Europe/London:20260214T120000
DTSTAMP:20260419T182112
CREATED:20260120T084010Z
LAST-MODIFIED:20260120T084010Z
UID:1354-1771063200-1771070400@www.stmaryos.org.uk
SUMMARY:Work with the Wardens
DESCRIPTION:Work with the Wardens\nWork with the Wardens takes place on the second Saturday of each month and brings together the local community to help keep the Church and grounds in good condition. \nYou could be: \n\nWeeding the paths\nClearing leaves\nPlanting bulbs\nDusting the porch
URL:https://www.stmaryos.org.uk/event/2026-02-14-work-with-the-wardens/
LOCATION:St Mary’s Church\, Rectory Road\, Stourbridge\, West Midlands\, DY8 2HA\, United Kingdom
CATEGORIES:Social,Work with the wardens
ATTACH;FMTTYPE=image/jpeg:https://www.stmaryos.org.uk/wp-content/uploads/2026/01/PXL_20230712_143400420-scaled-1-1-e1768775750218.jpg
ORGANIZER;CN="St Mary's Church%2C Oldswinford":MAILTO:office@stmaryos.org.uk
END:VEVENT
BEGIN:VEVENT
DTSTART;TZID=Europe/London:20260213T193000
DTEND;TZID=Europe/London:20260213T210000
DTSTAMP:20260419T182112
CREATED:20260120T084001Z
LAST-MODIFIED:20260120T084001Z
UID:1345-1771011000-1771016400@www.stmaryos.org.uk
SUMMARY:Adult Choir Rehearsal
DESCRIPTION:Adult Choir Rehearsal\nOur choir normally rehearses on a Friday evening\, the Junior Choir start rehearsal earlier than the Adult choir and are joined by the Adult Choir. \nMusic plays an important part in the life of St Mary’s Church\, information on joining the choir is available.
URL:https://www.stmaryos.org.uk/event/2026-02-13-adult-choir-rehearsal/
LOCATION:St Mary’s Church\, Rectory Road\, Stourbridge\, West Midlands\, DY8 2HA\, United Kingdom
CATEGORIES:Choir Rehearsal
ATTACH;FMTTYPE=image/jpeg:https://www.stmaryos.org.uk/wp-content/uploads/2026/01/sheet-music-8463988_1280-1-e1768516650436.jpg
ORGANIZER;CN="St Mary's Church%2C Oldswinford":MAILTO:office@stmaryos.org.uk
END:VEVENT
BEGIN:VEVENT
DTSTART;TZID=Europe/London:20260213T180000
DTEND;TZID=Europe/London:20260213T190000
DTSTAMP:20260419T182112
CREATED:20260120T084000Z
LAST-MODIFIED:20260120T084000Z
UID:1344-1771005600-1771009200@www.stmaryos.org.uk
SUMMARY:Youth Club
DESCRIPTION:Youth Club in the Church Hall
URL:https://www.stmaryos.org.uk/event/2026-02-13-youth-club/
LOCATION:St Mary’s Church Hall\, Rectory Road\, Stourbridge\, West Midlands\, DY8 2HA\, United Kingdom
CATEGORIES:Social,Youth Club
ATTACH;FMTTYPE=image/jpeg:https://www.stmaryos.org.uk/wp-content/uploads/2026/01/students-3518726_1280-1-e1768772919456.jpg
ORGANIZER;CN="St Mary's Church%2C Oldswinford":MAILTO:office@stmaryos.org.uk
END:VEVENT
BEGIN:VEVENT
DTSTART;TZID=Europe/London:20260213T160000
DTEND;TZID=Europe/London:20260213T163000
DTSTAMP:20260419T182112
CREATED:20260120T083959Z
LAST-MODIFIED:20260120T083959Z
UID:1343-1770998400-1771000200@www.stmaryos.org.uk
SUMMARY:Evening Prayer
DESCRIPTION:Evening Prayer\nA said service of Evening Prayer.
URL:https://www.stmaryos.org.uk/event/2026-02-13-evening-prayer/
LOCATION:St Mary’s Church\, Rectory Road\, Stourbridge\, West Midlands\, DY8 2HA\, United Kingdom
CATEGORIES:Worship
ORGANIZER;CN="St Mary's Church%2C Oldswinford":MAILTO:office@stmaryos.org.uk
END:VEVENT
BEGIN:VEVENT
DTSTART;TZID=Europe/London:20260213T090000
DTEND;TZID=Europe/London:20260213T093000
DTSTAMP:20260419T182112
CREATED:20260120T083957Z
LAST-MODIFIED:20260120T083957Z
UID:1342-1770973200-1770975000@www.stmaryos.org.uk
SUMMARY:Morning Prayer
DESCRIPTION:Morning Prayer\nA said service of Morning Prayer.
URL:https://www.stmaryos.org.uk/event/2026-02-13-morning-prayer/
LOCATION:St Mary’s Church\, Rectory Road\, Stourbridge\, West Midlands\, DY8 2HA\, United Kingdom
CATEGORIES:Worship
ORGANIZER;CN="St Mary's Church%2C Oldswinford":MAILTO:office@stmaryos.org.uk
END:VEVENT
BEGIN:VEVENT
DTSTART;TZID=Europe/London:20260212T160000
DTEND;TZID=Europe/London:20260212T163000
DTSTAMP:20260419T182112
CREATED:20260120T083942Z
LAST-MODIFIED:20260120T083942Z
UID:1326-1770912000-1770913800@www.stmaryos.org.uk
SUMMARY:Evening Prayer
DESCRIPTION:Evening Prayer\nA said service of Evening Prayer.
URL:https://www.stmaryos.org.uk/event/2026-02-12-evening-prayer/
LOCATION:St Mary’s Church\, Rectory Road\, Stourbridge\, West Midlands\, DY8 2HA\, United Kingdom
CATEGORIES:Worship
ORGANIZER;CN="St Mary's Church%2C Oldswinford":MAILTO:office@stmaryos.org.uk
END:VEVENT
BEGIN:VEVENT
DTSTART;TZID=Europe/London:20260212T103000
DTEND;TZID=Europe/London:20260212T111500
DTSTAMP:20260419T182112
CREATED:20260120T083943Z
LAST-MODIFIED:20260120T083943Z
UID:1327-1770892200-1770894900@www.stmaryos.org.uk
SUMMARY:Holy Communion (morning)
DESCRIPTION:Holy Communion from the Book of Common Prayer.
URL:https://www.stmaryos.org.uk/event/2026-02-12-holy-communion-morning/
LOCATION:St Mary’s Church\, Rectory Road\, Stourbridge\, West Midlands\, DY8 2HA\, United Kingdom
CATEGORIES:Communion,Worship
ATTACH;FMTTYPE=image/jpeg:https://www.stmaryos.org.uk/wp-content/uploads/2026/01/PXL_20240421_091848730-scaled-1-1-e1768516811542.jpg
ORGANIZER;CN="St Mary's Church%2C Oldswinford":MAILTO:office@stmaryos.org.uk
END:VEVENT
BEGIN:VEVENT
DTSTART;TZID=Europe/London:20260212T090000
DTEND;TZID=Europe/London:20260212T093000
DTSTAMP:20260419T182112
CREATED:20260120T083941Z
LAST-MODIFIED:20260120T083941Z
UID:1325-1770886800-1770888600@www.stmaryos.org.uk
SUMMARY:Morning Prayer
DESCRIPTION:Morning Prayer\nA said service of Morning Prayer.
URL:https://www.stmaryos.org.uk/event/2026-02-12-morning-prayer/
LOCATION:St Mary’s Church\, Rectory Road\, Stourbridge\, West Midlands\, DY8 2HA\, United Kingdom
CATEGORIES:Worship
ORGANIZER;CN="St Mary's Church%2C Oldswinford":MAILTO:office@stmaryos.org.uk
END:VEVENT
BEGIN:VEVENT
DTSTART;TZID=Europe/London:20260211T190000
DTEND;TZID=Europe/London:20260211T200000
DTSTAMP:20260419T182112
CREATED:20260126T082521Z
LAST-MODIFIED:20260126T082521Z
UID:1314-1770836400-1770840000@www.stmaryos.org.uk
SUMMARY:Encounter Meditation
DESCRIPTION:Encounter Meditation
URL:https://www.stmaryos.org.uk/event/2026-02-11-encounter-meditation/
LOCATION:St Mary’s Church\, Rectory Road\, Stourbridge\, West Midlands\, DY8 2HA\, United Kingdom
CATEGORIES:Meditation,Worship
ATTACH;FMTTYPE=image/jpeg:https://www.stmaryos.org.uk/wp-content/uploads/2026/01/candle-335965_1280-e1768830211989.jpg
ORGANIZER;CN="St Mary's Church%2C Oldswinford":MAILTO:office@stmaryos.org.uk
END:VEVENT
BEGIN:VEVENT
DTSTART;TZID=Europe/London:20260211T160000
DTEND;TZID=Europe/London:20260211T163000
DTSTAMP:20260419T182112
CREATED:20260120T083929Z
LAST-MODIFIED:20260120T083929Z
UID:1313-1770825600-1770827400@www.stmaryos.org.uk
SUMMARY:Evening Prayer
DESCRIPTION:Evening Prayer\nA said service of Evening Prayer.
URL:https://www.stmaryos.org.uk/event/2026-02-11-evening-prayer/
LOCATION:St Mary’s Church\, Rectory Road\, Stourbridge\, West Midlands\, DY8 2HA\, United Kingdom
CATEGORIES:Worship
ORGANIZER;CN="St Mary's Church%2C Oldswinford":MAILTO:office@stmaryos.org.uk
END:VEVENT
BEGIN:VEVENT
DTSTART;TZID=Europe/London:20260211T090000
DTEND;TZID=Europe/London:20260211T093000
DTSTAMP:20260419T182112
CREATED:20260120T083928Z
LAST-MODIFIED:20260120T083928Z
UID:1312-1770800400-1770802200@www.stmaryos.org.uk
SUMMARY:Morning Prayer
DESCRIPTION:Morning Prayer\nA said service of Morning Prayer.
URL:https://www.stmaryos.org.uk/event/2026-02-11-morning-prayer/
LOCATION:St Mary’s Church\, Rectory Road\, Stourbridge\, West Midlands\, DY8 2HA\, United Kingdom
CATEGORIES:Worship
ORGANIZER;CN="St Mary's Church%2C Oldswinford":MAILTO:office@stmaryos.org.uk
END:VEVENT
BEGIN:VEVENT
DTSTART;TZID=Europe/London:20260210T160000
DTEND;TZID=Europe/London:20260210T163000
DTSTAMP:20260419T182112
CREATED:20260126T082452Z
LAST-MODIFIED:20260126T082452Z
UID:1296-1770739200-1770741000@www.stmaryos.org.uk
SUMMARY:Evening Prayer
DESCRIPTION:Evening Prayer\nA said service of Evening Prayer.
URL:https://www.stmaryos.org.uk/event/2026-02-10-evening-prayer/
LOCATION:St Mary’s Church\, Rectory Road\, Stourbridge\, West Midlands\, DY8 2HA\, United Kingdom
CATEGORIES:Worship
ORGANIZER;CN="St Mary's Church%2C Oldswinford":MAILTO:office@stmaryos.org.uk
END:VEVENT
END:VCALENDAR