BEGIN:VCALENDAR
VERSION:2.0
PRODID:-//St Mary&#039;s Church Oldswinford - ECPv6.15.20//NONSGML v1.0//EN
CALSCALE:GREGORIAN
METHOD:PUBLISH
X-ORIGINAL-URL:https://www.stmaryos.org.uk
X-WR-CALDESC:Events for St Mary&#039;s Church Oldswinford
REFRESH-INTERVAL;VALUE=DURATION:PT1H
X-Robots-Tag:noindex
X-PUBLISHED-TTL:PT1H
BEGIN:VTIMEZONE
TZID:Europe/London
BEGIN:DAYLIGHT
TZOFFSETFROM:+0000
TZOFFSETTO:+0100
TZNAME:BST
DTSTART:20250330T010000
END:DAYLIGHT
BEGIN:STANDARD
TZOFFSETFROM:+0100
TZOFFSETTO:+0000
TZNAME:GMT
DTSTART:20251026T010000
END:STANDARD
BEGIN:DAYLIGHT
TZOFFSETFROM:+0000
TZOFFSETTO:+0100
TZNAME:BST
DTSTART:20260329T010000
END:DAYLIGHT
BEGIN:STANDARD
TZOFFSETFROM:+0100
TZOFFSETTO:+0000
TZNAME:GMT
DTSTART:20261025T010000
END:STANDARD
BEGIN:DAYLIGHT
TZOFFSETFROM:+0000
TZOFFSETTO:+0100
TZNAME:BST
DTSTART:20270328T010000
END:DAYLIGHT
BEGIN:STANDARD
TZOFFSETFROM:+0100
TZOFFSETTO:+0000
TZNAME:GMT
DTSTART:20271031T010000
END:STANDARD
END:VTIMEZONE
BEGIN:VEVENT
DTSTART;TZID=Europe/London:20260111T100000
DTEND;TZID=Europe/London:20260111T111500
DTSTAMP:20260420T063107
CREATED:20260119T204404Z
LAST-MODIFIED:20260119T204404Z
UID:1277-1768125600-1768130100@www.stmaryos.org.uk
SUMMARY:Parish Communion (morning)
DESCRIPTION:Parish Holy Communion Service from the Book of Common Worship.
URL:https://www.stmaryos.org.uk/event/2026-01-11-parish-communion-morning/
LOCATION:St Mary’s Church\, Rectory Road\, Stourbridge\, West Midlands\, DY8 2HA\, United Kingdom
CATEGORIES:Communion,Worship
ATTACH;FMTTYPE=image/jpeg:https://www.stmaryos.org.uk/wp-content/uploads/2026/01/PXL_20240421_091848730-scaled-1-1-e1768516811542.jpg
ORGANIZER;CN="St Mary's Church%2C Oldswinford":MAILTO:office@stmaryos.org.uk
END:VEVENT
BEGIN:VEVENT
DTSTART;TZID=Europe/London:20260110T100000
DTEND;TZID=Europe/London:20260110T120000
DTSTAMP:20260420T063107
CREATED:20260119T204357Z
LAST-MODIFIED:20260119T204357Z
UID:1274-1768039200-1768046400@www.stmaryos.org.uk
SUMMARY:Work with the Wardens
DESCRIPTION:Work with the Wardens\nWork with the Wardens takes place on the second Saturday of each month and brings together the local community to help keep the Church and grounds in good condition. \nYou could be: \n\nWeeding the paths\nClearing leaves\nPlanting bulbs\nDusting the porch
URL:https://www.stmaryos.org.uk/event/2026-01-10-work-with-the-wardens/
LOCATION:St Mary’s Church\, Rectory Road\, Stourbridge\, West Midlands\, DY8 2HA\, United Kingdom
CATEGORIES:Social,Work with the wardens
ATTACH;FMTTYPE=image/jpeg:https://www.stmaryos.org.uk/wp-content/uploads/2026/01/PXL_20230712_143400420-scaled-1-1-e1768775750218.jpg
ORGANIZER;CN="St Mary's Church%2C Oldswinford":MAILTO:office@stmaryos.org.uk
END:VEVENT
BEGIN:VEVENT
DTSTART;TZID=Europe/London:20260109T193000
DTEND;TZID=Europe/London:20260109T210000
DTSTAMP:20260420T063107
CREATED:20260119T204344Z
LAST-MODIFIED:20260119T204344Z
UID:1265-1767987000-1767992400@www.stmaryos.org.uk
SUMMARY:Adult Choir Rehearsal
DESCRIPTION:Adult Choir Rehearsal\nOur choir normally rehearses on a Friday evening\, the Junior Choir start rehearsal earlier than the Adult choir and are joined by the Adult Choir. \nMusic plays an important part in the life of St Mary’s Church\, information on joining the choir is available.
URL:https://www.stmaryos.org.uk/event/2026-01-09-adult-choir-rehearsal/
LOCATION:St Mary’s Church\, Rectory Road\, Stourbridge\, West Midlands\, DY8 2HA\, United Kingdom
CATEGORIES:Choir Rehearsal
ATTACH;FMTTYPE=image/jpeg:https://www.stmaryos.org.uk/wp-content/uploads/2026/01/sheet-music-8463988_1280-1-e1768516650436.jpg
ORGANIZER;CN="St Mary's Church%2C Oldswinford":MAILTO:office@stmaryos.org.uk
END:VEVENT
BEGIN:VEVENT
DTSTART;TZID=Europe/London:20260109T180000
DTEND;TZID=Europe/London:20260109T190000
DTSTAMP:20260420T063107
CREATED:20260119T204343Z
LAST-MODIFIED:20260119T204343Z
UID:1264-1767981600-1767985200@www.stmaryos.org.uk
SUMMARY:Youth Club
DESCRIPTION:Youth Club in the Church Hall
URL:https://www.stmaryos.org.uk/event/2026-01-09-youth-club/
LOCATION:St Mary’s Church Hall\, Rectory Road\, Stourbridge\, West Midlands\, DY8 2HA\, United Kingdom
CATEGORIES:Social,Youth Club
ATTACH;FMTTYPE=image/jpeg:https://www.stmaryos.org.uk/wp-content/uploads/2026/01/students-3518726_1280-1-e1768772919456.jpg
ORGANIZER;CN="St Mary's Church%2C Oldswinford":MAILTO:office@stmaryos.org.uk
END:VEVENT
BEGIN:VEVENT
DTSTART;TZID=Europe/London:20260109T160000
DTEND;TZID=Europe/London:20260109T163000
DTSTAMP:20260420T063107
CREATED:20260119T204342Z
LAST-MODIFIED:20260119T204342Z
UID:1263-1767974400-1767976200@www.stmaryos.org.uk
SUMMARY:Evening Prayer
DESCRIPTION:Evening Prayer\nA said service of Evening Prayer.
URL:https://www.stmaryos.org.uk/event/2026-01-09-evening-prayer/
LOCATION:St Mary’s Church\, Rectory Road\, Stourbridge\, West Midlands\, DY8 2HA\, United Kingdom
CATEGORIES:Worship
ORGANIZER;CN="St Mary's Church%2C Oldswinford":MAILTO:office@stmaryos.org.uk
END:VEVENT
BEGIN:VEVENT
DTSTART;TZID=Europe/London:20260109T090000
DTEND;TZID=Europe/London:20260109T093000
DTSTAMP:20260420T063107
CREATED:20260119T204341Z
LAST-MODIFIED:20260119T204341Z
UID:1262-1767949200-1767951000@www.stmaryos.org.uk
SUMMARY:Morning Prayer
DESCRIPTION:Morning Prayer\nA said service of Morning Prayer.
URL:https://www.stmaryos.org.uk/event/2026-01-09-morning-prayer/
LOCATION:St Mary’s Church\, Rectory Road\, Stourbridge\, West Midlands\, DY8 2HA\, United Kingdom
CATEGORIES:Worship
ORGANIZER;CN="St Mary's Church%2C Oldswinford":MAILTO:office@stmaryos.org.uk
END:VEVENT
BEGIN:VEVENT
DTSTART;TZID=Europe/London:20260108T160000
DTEND;TZID=Europe/London:20260108T163000
DTSTAMP:20260420T063107
CREATED:20260119T204321Z
LAST-MODIFIED:20260119T204321Z
UID:1247-1767888000-1767889800@www.stmaryos.org.uk
SUMMARY:Evening Prayer
DESCRIPTION:Evening Prayer\nA said service of Evening Prayer.
URL:https://www.stmaryos.org.uk/event/2026-01-08-evening-prayer/
LOCATION:St Mary’s Church\, Rectory Road\, Stourbridge\, West Midlands\, DY8 2HA\, United Kingdom
CATEGORIES:Worship
ORGANIZER;CN="St Mary's Church%2C Oldswinford":MAILTO:office@stmaryos.org.uk
END:VEVENT
BEGIN:VEVENT
DTSTART;TZID=Europe/London:20260108T103000
DTEND;TZID=Europe/London:20260108T111500
DTSTAMP:20260420T063107
CREATED:20260119T204321Z
LAST-MODIFIED:20260119T204321Z
UID:1248-1767868200-1767870900@www.stmaryos.org.uk
SUMMARY:Holy Communion (morning)
DESCRIPTION:Holy Communion from the Book of Common Prayer.
URL:https://www.stmaryos.org.uk/event/2026-01-08-holy-communion-morning/
LOCATION:St Mary’s Church\, Rectory Road\, Stourbridge\, West Midlands\, DY8 2HA\, United Kingdom
CATEGORIES:Communion,Worship
ATTACH;FMTTYPE=image/jpeg:https://www.stmaryos.org.uk/wp-content/uploads/2026/01/PXL_20240421_091848730-scaled-1-1-e1768516811542.jpg
ORGANIZER;CN="St Mary's Church%2C Oldswinford":MAILTO:office@stmaryos.org.uk
END:VEVENT
BEGIN:VEVENT
DTSTART;TZID=Europe/London:20260108T090000
DTEND;TZID=Europe/London:20260108T093000
DTSTAMP:20260420T063107
CREATED:20260119T204320Z
LAST-MODIFIED:20260119T204320Z
UID:1246-1767862800-1767864600@www.stmaryos.org.uk
SUMMARY:Morning Prayer
DESCRIPTION:Morning Prayer\nA said service of Morning Prayer.
URL:https://www.stmaryos.org.uk/event/2026-01-08-morning-prayer/
LOCATION:St Mary’s Church\, Rectory Road\, Stourbridge\, West Midlands\, DY8 2HA\, United Kingdom
CATEGORIES:Worship
ORGANIZER;CN="St Mary's Church%2C Oldswinford":MAILTO:office@stmaryos.org.uk
END:VEVENT
BEGIN:VEVENT
DTSTART;TZID=Europe/London:20260107T160000
DTEND;TZID=Europe/London:20260107T163000
DTSTAMP:20260420T063107
CREATED:20260119T204306Z
LAST-MODIFIED:20260119T204306Z
UID:1237-1767801600-1767803400@www.stmaryos.org.uk
SUMMARY:Evening Prayer
DESCRIPTION:Evening Prayer\nA said service of Evening Prayer.
URL:https://www.stmaryos.org.uk/event/2026-01-07-evening-prayer/
LOCATION:St Mary’s Church\, Rectory Road\, Stourbridge\, West Midlands\, DY8 2HA\, United Kingdom
CATEGORIES:Worship
ORGANIZER;CN="St Mary's Church%2C Oldswinford":MAILTO:office@stmaryos.org.uk
END:VEVENT
BEGIN:VEVENT
DTSTART;TZID=Europe/London:20260107T103000
DTEND;TZID=Europe/London:20260107T113000
DTSTAMP:20260420T063107
CREATED:20260119T204307Z
LAST-MODIFIED:20260119T204307Z
UID:1238-1767781800-1767785400@www.stmaryos.org.uk
SUMMARY:Morning Praise
DESCRIPTION:Morning Praise\nA short service suitable for all\, especially people with additional needs.
URL:https://www.stmaryos.org.uk/event/2026-01-07-morning-praise/
LOCATION:St Mary’s Church\, Rectory Road\, Stourbridge\, West Midlands\, DY8 2HA\, United Kingdom
CATEGORIES:Worship
ATTACH;FMTTYPE=image/jpeg:https://www.stmaryos.org.uk/wp-content/uploads/2026/01/woman-571715_1280-1-e1768830087919.jpg
ORGANIZER;CN="St Mary's Church%2C Oldswinford":MAILTO:office@stmaryos.org.uk
END:VEVENT
BEGIN:VEVENT
DTSTART;TZID=Europe/London:20260107T090000
DTEND;TZID=Europe/London:20260107T093000
DTSTAMP:20260420T063107
CREATED:20260119T204305Z
LAST-MODIFIED:20260119T204305Z
UID:1236-1767776400-1767778200@www.stmaryos.org.uk
SUMMARY:Morning Prayer
DESCRIPTION:Morning Prayer\nA said service of Morning Prayer.
URL:https://www.stmaryos.org.uk/event/2026-01-07-morning-prayer/
LOCATION:St Mary’s Church\, Rectory Road\, Stourbridge\, West Midlands\, DY8 2HA\, United Kingdom
CATEGORIES:Worship
ORGANIZER;CN="St Mary's Church%2C Oldswinford":MAILTO:office@stmaryos.org.uk
END:VEVENT
BEGIN:VEVENT
DTSTART;TZID=Europe/London:20260106T160000
DTEND;TZID=Europe/London:20260106T163000
DTSTAMP:20260420T063107
CREATED:20260126T082448Z
LAST-MODIFIED:20260126T082448Z
UID:1229-1767715200-1767717000@www.stmaryos.org.uk
SUMMARY:Evening Prayer
DESCRIPTION:Evening Prayer\nA said service of Evening Prayer.
URL:https://www.stmaryos.org.uk/event/2026-01-06-evening-prayer/
LOCATION:St Mary’s Church\, Rectory Road\, Stourbridge\, West Midlands\, DY8 2HA\, United Kingdom
CATEGORIES:Worship
ORGANIZER;CN="St Mary's Church%2C Oldswinford":MAILTO:office@stmaryos.org.uk
END:VEVENT
BEGIN:VEVENT
DTSTART;TZID=Europe/London:20260106T090000
DTEND;TZID=Europe/London:20260106T093000
DTSTAMP:20260420T063107
CREATED:20260126T082448Z
LAST-MODIFIED:20260126T082448Z
UID:1228-1767690000-1767691800@www.stmaryos.org.uk
SUMMARY:Morning Prayer
DESCRIPTION:Morning Prayer\nA said service of Morning Prayer.
URL:https://www.stmaryos.org.uk/event/2026-01-06-morning-prayer/
LOCATION:St Mary’s Church\, Rectory Road\, Stourbridge\, West Midlands\, DY8 2HA\, United Kingdom
CATEGORIES:Worship
ORGANIZER;CN="St Mary's Church%2C Oldswinford":MAILTO:office@stmaryos.org.uk
END:VEVENT
BEGIN:VEVENT
DTSTART;TZID=Europe/London:20260105T140000
DTEND;TZID=Europe/London:20260105T160000
DTSTAMP:20260420T063107
CREATED:20260119T204245Z
LAST-MODIFIED:20260119T204245Z
UID:1224-1767621600-1767628800@www.stmaryos.org.uk
SUMMARY:Craft and Chat
DESCRIPTION:Craft and Chat\nEveryone welcome – held in the Coach House
URL:https://www.stmaryos.org.uk/event/2026-01-05-craft-and-chat/
LOCATION:Coach House\, Rectory Road\, Stourbridge\, West Midlands\, DY8 2HA\, United Kingdom
CATEGORIES:Craft & Chat,Social
ATTACH;FMTTYPE=image/jpeg:https://www.stmaryos.org.uk/wp-content/uploads/2026/01/sewing-kit-5063401_1280-1-e1768774241270.jpg
ORGANIZER;CN="St Mary's Church%2C Oldswinford":MAILTO:office@stmaryos.org.uk
END:VEVENT
BEGIN:VEVENT
DTSTART;TZID=Europe/London:20260104T160000
DTEND;TZID=Europe/London:20260104T170000
DTSTAMP:20260420T063107
CREATED:20260120T084012Z
LAST-MODIFIED:20260120T084012Z
UID:1355-1767542400-1767546000@www.stmaryos.org.uk
SUMMARY:4 O'clock Church - Family Service (afternoon)
DESCRIPTION:4 O’clock Church\n \nOur 4 O’clock Church is one of our family focused groups that takes place on the first Sunday of the month during school term time. Its lots of fun an features a mix of different themes with crafts and activities as well as some lovely food and drink!
URL:https://www.stmaryos.org.uk/event/2026-01-04-4-oclock-church-family-service-afternoon/
LOCATION:St Mary’s Church\, Rectory Road\, Stourbridge\, West Midlands\, DY8 2HA\, United Kingdom
CATEGORIES:Family Service
ATTACH;FMTTYPE=image/jpeg:https://www.stmaryos.org.uk/wp-content/uploads/2026/01/4oclock-1-e1768517042265.jpg
ORGANIZER;CN="St Mary's Church%2C Oldswinford":MAILTO:office@stmaryos.org.uk
END:VEVENT
BEGIN:VEVENT
DTSTART;TZID=Europe/London:20260104T100000
DTEND;TZID=Europe/London:20260104T111500
DTSTAMP:20260420T063107
CREATED:20260119T204401Z
LAST-MODIFIED:20260119T204401Z
UID:1275-1767520800-1767525300@www.stmaryos.org.uk
SUMMARY:Parish Communion (morning)
DESCRIPTION:Parish Holy Communion Service from the Book of Common Worship.
URL:https://www.stmaryos.org.uk/event/2026-01-04-parish-communion-morning/
LOCATION:St Mary’s Church\, Rectory Road\, Stourbridge\, West Midlands\, DY8 2HA\, United Kingdom
CATEGORIES:Communion,Worship
ATTACH;FMTTYPE=image/jpeg:https://www.stmaryos.org.uk/wp-content/uploads/2026/01/PXL_20240421_091848730-scaled-1-1-e1768516811542.jpg
ORGANIZER;CN="St Mary's Church%2C Oldswinford":MAILTO:office@stmaryos.org.uk
END:VEVENT
BEGIN:VEVENT
DTSTART;TZID=Europe/London:20260102T193000
DTEND;TZID=Europe/London:20260102T210000
DTSTAMP:20260420T063107
CREATED:20260119T204339Z
LAST-MODIFIED:20260119T204339Z
UID:1261-1767382200-1767387600@www.stmaryos.org.uk
SUMMARY:Adult Choir Rehearsal
DESCRIPTION:Adult Choir Rehearsal\nOur choir normally rehearses on a Friday evening\, the Junior Choir start rehearsal earlier than the Adult choir and are joined by the Adult Choir. \nMusic plays an important part in the life of St Mary’s Church\, information on joining the choir is available.
URL:https://www.stmaryos.org.uk/event/2026-01-02-adult-choir-rehearsal/
LOCATION:St Mary’s Church\, Rectory Road\, Stourbridge\, West Midlands\, DY8 2HA\, United Kingdom
CATEGORIES:Choir Rehearsal
ATTACH;FMTTYPE=image/jpeg:https://www.stmaryos.org.uk/wp-content/uploads/2026/01/sheet-music-8463988_1280-1-e1768516650436.jpg
ORGANIZER;CN="St Mary's Church%2C Oldswinford":MAILTO:office@stmaryos.org.uk
END:VEVENT
BEGIN:VEVENT
DTSTART;TZID=Europe/London:20260102T180000
DTEND;TZID=Europe/London:20260102T190000
DTSTAMP:20260420T063107
CREATED:20260119T204338Z
LAST-MODIFIED:20260119T204338Z
UID:1260-1767376800-1767380400@www.stmaryos.org.uk
SUMMARY:Youth Club
DESCRIPTION:Youth Club in the Church Hall
URL:https://www.stmaryos.org.uk/event/2026-01-02-youth-club/
LOCATION:St Mary’s Church Hall\, Rectory Road\, Stourbridge\, West Midlands\, DY8 2HA\, United Kingdom
CATEGORIES:Social,Youth Club
ATTACH;FMTTYPE=image/jpeg:https://www.stmaryos.org.uk/wp-content/uploads/2026/01/students-3518726_1280-1-e1768772919456.jpg
ORGANIZER;CN="St Mary's Church%2C Oldswinford":MAILTO:office@stmaryos.org.uk
END:VEVENT
BEGIN:VEVENT
DTSTART;TZID=Europe/London:20260102T160000
DTEND;TZID=Europe/London:20260102T163000
DTSTAMP:20260420T063107
CREATED:20260119T204337Z
LAST-MODIFIED:20260119T204337Z
UID:1259-1767369600-1767371400@www.stmaryos.org.uk
SUMMARY:Evening Prayer
DESCRIPTION:Evening Prayer\nA said service of Evening Prayer.
URL:https://www.stmaryos.org.uk/event/2026-01-02-evening-prayer/
LOCATION:St Mary’s Church\, Rectory Road\, Stourbridge\, West Midlands\, DY8 2HA\, United Kingdom
CATEGORIES:Worship
ORGANIZER;CN="St Mary's Church%2C Oldswinford":MAILTO:office@stmaryos.org.uk
END:VEVENT
BEGIN:VEVENT
DTSTART;TZID=Europe/London:20260102T090000
DTEND;TZID=Europe/London:20260102T093000
DTSTAMP:20260420T063107
CREATED:20260119T204336Z
LAST-MODIFIED:20260119T204336Z
UID:1258-1767344400-1767346200@www.stmaryos.org.uk
SUMMARY:Morning Prayer
DESCRIPTION:Morning Prayer\nA said service of Morning Prayer.
URL:https://www.stmaryos.org.uk/event/2026-01-02-morning-prayer/
LOCATION:St Mary’s Church\, Rectory Road\, Stourbridge\, West Midlands\, DY8 2HA\, United Kingdom
CATEGORIES:Worship
ORGANIZER;CN="St Mary's Church%2C Oldswinford":MAILTO:office@stmaryos.org.uk
END:VEVENT
BEGIN:VEVENT
DTSTART;TZID=Europe/London:20260101T160000
DTEND;TZID=Europe/London:20260101T163000
DTSTAMP:20260420T063107
CREATED:20260120T083937Z
LAST-MODIFIED:20260120T083937Z
UID:1320-1767283200-1767285000@www.stmaryos.org.uk
SUMMARY:Evening Prayer
DESCRIPTION:Evening Prayer\nA said service of Evening Prayer.
URL:https://www.stmaryos.org.uk/event/2026-01-01-evening-prayer/
LOCATION:St Mary’s Church\, Rectory Road\, Stourbridge\, West Midlands\, DY8 2HA\, United Kingdom
CATEGORIES:Worship
ORGANIZER;CN="St Mary's Church%2C Oldswinford":MAILTO:office@stmaryos.org.uk
END:VEVENT
BEGIN:VEVENT
DTSTART;TZID=Europe/London:20260101T103000
DTEND;TZID=Europe/London:20260101T111500
DTSTAMP:20260420T063107
CREATED:20260120T083938Z
LAST-MODIFIED:20260120T083938Z
UID:1321-1767263400-1767266100@www.stmaryos.org.uk
SUMMARY:Holy Communion (morning)
DESCRIPTION:Holy Communion from the Book of Common Prayer.
URL:https://www.stmaryos.org.uk/event/2026-01-01-holy-communion-morning/
LOCATION:St Mary’s Church\, Rectory Road\, Stourbridge\, West Midlands\, DY8 2HA\, United Kingdom
CATEGORIES:Communion,Worship
ATTACH;FMTTYPE=image/jpeg:https://www.stmaryos.org.uk/wp-content/uploads/2026/01/PXL_20240421_091848730-scaled-1-1-e1768516811542.jpg
ORGANIZER;CN="St Mary's Church%2C Oldswinford":MAILTO:office@stmaryos.org.uk
END:VEVENT
BEGIN:VEVENT
DTSTART;TZID=Europe/London:20260101T090000
DTEND;TZID=Europe/London:20260101T093000
DTSTAMP:20260420T063107
CREATED:20260120T083936Z
LAST-MODIFIED:20260120T083936Z
UID:1319-1767258000-1767259800@www.stmaryos.org.uk
SUMMARY:Morning Prayer
DESCRIPTION:Morning Prayer\nA said service of Morning Prayer.
URL:https://www.stmaryos.org.uk/event/2026-01-01-morning-prayer/
LOCATION:St Mary’s Church\, Rectory Road\, Stourbridge\, West Midlands\, DY8 2HA\, United Kingdom
CATEGORIES:Worship
ORGANIZER;CN="St Mary's Church%2C Oldswinford":MAILTO:office@stmaryos.org.uk
END:VEVENT
END:VCALENDAR