BEGIN:VCALENDAR
VERSION:2.0
PRODID:-//St Mary&#039;s Church Oldswinford - ECPv6.15.20//NONSGML v1.0//EN
CALSCALE:GREGORIAN
METHOD:PUBLISH
X-ORIGINAL-URL:https://www.stmaryos.org.uk
X-WR-CALDESC:Events for St Mary&#039;s Church Oldswinford
REFRESH-INTERVAL;VALUE=DURATION:PT1H
X-Robots-Tag:noindex
X-PUBLISHED-TTL:PT1H
BEGIN:VTIMEZONE
TZID:Europe/London
BEGIN:DAYLIGHT
TZOFFSETFROM:+0000
TZOFFSETTO:+0100
TZNAME:BST
DTSTART:20250330T010000
END:DAYLIGHT
BEGIN:STANDARD
TZOFFSETFROM:+0100
TZOFFSETTO:+0000
TZNAME:GMT
DTSTART:20251026T010000
END:STANDARD
BEGIN:DAYLIGHT
TZOFFSETFROM:+0000
TZOFFSETTO:+0100
TZNAME:BST
DTSTART:20260329T010000
END:DAYLIGHT
BEGIN:STANDARD
TZOFFSETFROM:+0100
TZOFFSETTO:+0000
TZNAME:GMT
DTSTART:20261025T010000
END:STANDARD
BEGIN:DAYLIGHT
TZOFFSETFROM:+0000
TZOFFSETTO:+0100
TZNAME:BST
DTSTART:20270328T010000
END:DAYLIGHT
BEGIN:STANDARD
TZOFFSETFROM:+0100
TZOFFSETTO:+0000
TZNAME:GMT
DTSTART:20271031T010000
END:STANDARD
END:VTIMEZONE
BEGIN:VEVENT
DTSTART;TZID=Europe/London:20260130T090000
DTEND;TZID=Europe/London:20260130T093000
DTSTAMP:20260420T020247
CREATED:20260120T083950Z
LAST-MODIFIED:20260120T083950Z
UID:1334-1769763600-1769765400@www.stmaryos.org.uk
SUMMARY:Morning Prayer
DESCRIPTION:Morning Prayer\nA said service of Morning Prayer.
URL:https://www.stmaryos.org.uk/event/2026-01-30-morning-prayer/
LOCATION:St Mary’s Church\, Rectory Road\, Stourbridge\, West Midlands\, DY8 2HA\, United Kingdom
CATEGORIES:Worship
ORGANIZER;CN="St Mary's Church%2C Oldswinford":MAILTO:office@stmaryos.org.uk
END:VEVENT
BEGIN:VEVENT
DTSTART;TZID=Europe/London:20260129T160000
DTEND;TZID=Europe/London:20260129T163000
DTSTAMP:20260420T020247
CREATED:20260119T204333Z
LAST-MODIFIED:20260119T204333Z
UID:1256-1769702400-1769704200@www.stmaryos.org.uk
SUMMARY:Evening Prayer
DESCRIPTION:Evening Prayer\nA said service of Evening Prayer.
URL:https://www.stmaryos.org.uk/event/2026-01-29-evening-prayer/
LOCATION:St Mary’s Church\, Rectory Road\, Stourbridge\, West Midlands\, DY8 2HA\, United Kingdom
CATEGORIES:Worship
ORGANIZER;CN="St Mary's Church%2C Oldswinford":MAILTO:office@stmaryos.org.uk
END:VEVENT
BEGIN:VEVENT
DTSTART;TZID=Europe/London:20260129T103000
DTEND;TZID=Europe/London:20260129T111500
DTSTAMP:20260420T020247
CREATED:20260119T204334Z
LAST-MODIFIED:20260119T204334Z
UID:1257-1769682600-1769685300@www.stmaryos.org.uk
SUMMARY:Holy Communion (morning)
DESCRIPTION:Holy Communion from the Book of Common Prayer.
URL:https://www.stmaryos.org.uk/event/2026-01-29-holy-communion-morning/
LOCATION:St Mary’s Church\, Rectory Road\, Stourbridge\, West Midlands\, DY8 2HA\, United Kingdom
CATEGORIES:Communion,Worship
ATTACH;FMTTYPE=image/jpeg:https://www.stmaryos.org.uk/wp-content/uploads/2026/01/PXL_20240421_091848730-scaled-1-1-e1768516811542.jpg
ORGANIZER;CN="St Mary's Church%2C Oldswinford":MAILTO:office@stmaryos.org.uk
END:VEVENT
BEGIN:VEVENT
DTSTART;TZID=Europe/London:20260129T090000
DTEND;TZID=Europe/London:20260129T093000
DTSTAMP:20260420T020247
CREATED:20260119T204332Z
LAST-MODIFIED:20260119T204332Z
UID:1255-1769677200-1769679000@www.stmaryos.org.uk
SUMMARY:Morning Prayer
DESCRIPTION:Morning Prayer\nA said service of Morning Prayer.
URL:https://www.stmaryos.org.uk/event/2026-01-29-morning-prayer/
LOCATION:St Mary’s Church\, Rectory Road\, Stourbridge\, West Midlands\, DY8 2HA\, United Kingdom
CATEGORIES:Worship
ORGANIZER;CN="St Mary's Church%2C Oldswinford":MAILTO:office@stmaryos.org.uk
END:VEVENT
BEGIN:VEVENT
DTSTART;TZID=Europe/London:20260128T160000
DTEND;TZID=Europe/London:20260128T163000
DTSTAMP:20260420T020247
CREATED:20260119T204317Z
LAST-MODIFIED:20260119T204317Z
UID:1245-1769616000-1769617800@www.stmaryos.org.uk
SUMMARY:Evening Prayer
DESCRIPTION:Evening Prayer\nA said service of Evening Prayer.
URL:https://www.stmaryos.org.uk/event/2026-01-28-evening-prayer/
LOCATION:St Mary’s Church\, Rectory Road\, Stourbridge\, West Midlands\, DY8 2HA\, United Kingdom
CATEGORIES:Worship
ORGANIZER;CN="St Mary's Church%2C Oldswinford":MAILTO:office@stmaryos.org.uk
END:VEVENT
BEGIN:VEVENT
DTSTART;TZID=Europe/London:20260128T090000
DTEND;TZID=Europe/London:20260128T093000
DTSTAMP:20260420T020247
CREATED:20260119T204316Z
LAST-MODIFIED:20260119T204316Z
UID:1244-1769590800-1769592600@www.stmaryos.org.uk
SUMMARY:Morning Prayer
DESCRIPTION:Morning Prayer\nA said service of Morning Prayer.
URL:https://www.stmaryos.org.uk/event/2026-01-28-morning-prayer/
LOCATION:St Mary’s Church\, Rectory Road\, Stourbridge\, West Midlands\, DY8 2HA\, United Kingdom
CATEGORIES:Worship
ORGANIZER;CN="St Mary's Church%2C Oldswinford":MAILTO:office@stmaryos.org.uk
END:VEVENT
BEGIN:VEVENT
DTSTART;TZID=Europe/London:20260127T160000
DTEND;TZID=Europe/London:20260127T163000
DTSTAMP:20260420T020247
CREATED:20260126T082451Z
LAST-MODIFIED:20260126T082451Z
UID:1235-1769529600-1769531400@www.stmaryos.org.uk
SUMMARY:Evening Prayer
DESCRIPTION:Evening Prayer\nA said service of Evening Prayer.
URL:https://www.stmaryos.org.uk/event/2026-01-27-evening-prayer/
LOCATION:St Mary’s Church\, Rectory Road\, Stourbridge\, West Midlands\, DY8 2HA\, United Kingdom
CATEGORIES:Worship
ORGANIZER;CN="St Mary's Church%2C Oldswinford":MAILTO:office@stmaryos.org.uk
END:VEVENT
BEGIN:VEVENT
DTSTART;TZID=Europe/London:20260127T090000
DTEND;TZID=Europe/London:20260127T093000
DTSTAMP:20260420T020247
CREATED:20260126T082451Z
LAST-MODIFIED:20260126T082451Z
UID:1234-1769504400-1769506200@www.stmaryos.org.uk
SUMMARY:Morning Prayer
DESCRIPTION:Morning Prayer\nA said service of Morning Prayer.
URL:https://www.stmaryos.org.uk/event/2026-01-27-morning-prayer/
LOCATION:St Mary’s Church\, Rectory Road\, Stourbridge\, West Midlands\, DY8 2HA\, United Kingdom
CATEGORIES:Worship
ORGANIZER;CN="St Mary's Church%2C Oldswinford":MAILTO:office@stmaryos.org.uk
END:VEVENT
BEGIN:VEVENT
DTSTART;TZID=Europe/London:20260125T183000
DTEND;TZID=Europe/London:20260125T194500
DTSTAMP:20260420T020247
CREATED:20260119T204412Z
LAST-MODIFIED:20260119T204412Z
UID:1283-1769365800-1769370300@www.stmaryos.org.uk
SUMMARY:A service of Evensong (evening)
DESCRIPTION:Evening service of Evensong
URL:https://www.stmaryos.org.uk/event/2026-01-25-a-service-of-evensong-evening/
LOCATION:St Mary’s Church\, Rectory Road\, Stourbridge\, West Midlands\, DY8 2HA\, United Kingdom
CATEGORIES:Evensong,Worship
ATTACH;FMTTYPE=image/jpeg:https://www.stmaryos.org.uk/wp-content/uploads/2026/01/tea-candles-6886032_1280-1-e1768561665998.jpg
ORGANIZER;CN="St Mary's Church%2C Oldswinford":MAILTO:office@stmaryos.org.uk
END:VEVENT
BEGIN:VEVENT
DTSTART;TZID=Europe/London:20260125T100000
DTEND;TZID=Europe/London:20260125T111500
DTSTAMP:20260420T020247
CREATED:20260119T204411Z
LAST-MODIFIED:20260119T204411Z
UID:1282-1769335200-1769339700@www.stmaryos.org.uk
SUMMARY:Parish Communion (morning)
DESCRIPTION:Parish Holy Communion Service from the Book of Common Worship.
URL:https://www.stmaryos.org.uk/event/2026-01-25-parish-communion-morning/
LOCATION:St Mary’s Church\, Rectory Road\, Stourbridge\, West Midlands\, DY8 2HA\, United Kingdom
CATEGORIES:Communion,Worship
ATTACH;FMTTYPE=image/jpeg:https://www.stmaryos.org.uk/wp-content/uploads/2026/01/PXL_20240421_091848730-scaled-1-1-e1768516811542.jpg
ORGANIZER;CN="St Mary's Church%2C Oldswinford":MAILTO:office@stmaryos.org.uk
END:VEVENT
BEGIN:VEVENT
DTSTART;TZID=Europe/London:20260123T160000
DTEND;TZID=Europe/London:20260123T163000
DTSTAMP:20260420T020247
CREATED:20260119T204352Z
LAST-MODIFIED:20260119T204352Z
UID:1271-1769184000-1769185800@www.stmaryos.org.uk
SUMMARY:Evening Prayer
DESCRIPTION:Evening Prayer\nA said service of Evening Prayer.
URL:https://www.stmaryos.org.uk/event/2026-01-23-evening-prayer/
LOCATION:St Mary’s Church\, Rectory Road\, Stourbridge\, West Midlands\, DY8 2HA\, United Kingdom
CATEGORIES:Worship
ORGANIZER;CN="St Mary's Church%2C Oldswinford":MAILTO:office@stmaryos.org.uk
END:VEVENT
BEGIN:VEVENT
DTSTART;TZID=Europe/London:20260123T090000
DTEND;TZID=Europe/London:20260123T093000
DTSTAMP:20260420T020247
CREATED:20260119T204351Z
LAST-MODIFIED:20260119T204351Z
UID:1270-1769158800-1769160600@www.stmaryos.org.uk
SUMMARY:Morning Prayer
DESCRIPTION:Morning Prayer\nA said service of Morning Prayer.
URL:https://www.stmaryos.org.uk/event/2026-01-23-morning-prayer/
LOCATION:St Mary’s Church\, Rectory Road\, Stourbridge\, West Midlands\, DY8 2HA\, United Kingdom
CATEGORIES:Worship
ORGANIZER;CN="St Mary's Church%2C Oldswinford":MAILTO:office@stmaryos.org.uk
END:VEVENT
BEGIN:VEVENT
DTSTART;TZID=Europe/London:20260122T160000
DTEND;TZID=Europe/London:20260122T163000
DTSTAMP:20260420T020247
CREATED:20260119T204329Z
LAST-MODIFIED:20260119T204329Z
UID:1253-1769097600-1769099400@www.stmaryos.org.uk
SUMMARY:Evening Prayer
DESCRIPTION:Evening Prayer\nA said service of Evening Prayer.
URL:https://www.stmaryos.org.uk/event/2026-01-22-evening-prayer/
LOCATION:St Mary’s Church\, Rectory Road\, Stourbridge\, West Midlands\, DY8 2HA\, United Kingdom
CATEGORIES:Worship
ORGANIZER;CN="St Mary's Church%2C Oldswinford":MAILTO:office@stmaryos.org.uk
END:VEVENT
BEGIN:VEVENT
DTSTART;TZID=Europe/London:20260122T103000
DTEND;TZID=Europe/London:20260122T111500
DTSTAMP:20260420T020247
CREATED:20260119T204330Z
LAST-MODIFIED:20260119T204330Z
UID:1254-1769077800-1769080500@www.stmaryos.org.uk
SUMMARY:Holy Communion (morning)
DESCRIPTION:Holy Communion from the Book of Common Prayer.
URL:https://www.stmaryos.org.uk/event/2026-01-22-holy-communion-morning/
LOCATION:St Mary’s Church\, Rectory Road\, Stourbridge\, West Midlands\, DY8 2HA\, United Kingdom
CATEGORIES:Communion,Worship
ATTACH;FMTTYPE=image/jpeg:https://www.stmaryos.org.uk/wp-content/uploads/2026/01/PXL_20240421_091848730-scaled-1-1-e1768516811542.jpg
ORGANIZER;CN="St Mary's Church%2C Oldswinford":MAILTO:office@stmaryos.org.uk
END:VEVENT
BEGIN:VEVENT
DTSTART;TZID=Europe/London:20260122T090000
DTEND;TZID=Europe/London:20260122T093000
DTSTAMP:20260420T020247
CREATED:20260119T204327Z
LAST-MODIFIED:20260119T204327Z
UID:1252-1769072400-1769074200@www.stmaryos.org.uk
SUMMARY:Morning Prayer
DESCRIPTION:Morning Prayer\nA said service of Morning Prayer.
URL:https://www.stmaryos.org.uk/event/2026-01-22-morning-prayer/
LOCATION:St Mary’s Church\, Rectory Road\, Stourbridge\, West Midlands\, DY8 2HA\, United Kingdom
CATEGORIES:Worship
ORGANIZER;CN="St Mary's Church%2C Oldswinford":MAILTO:office@stmaryos.org.uk
END:VEVENT
BEGIN:VEVENT
DTSTART;TZID=Europe/London:20260121T160000
DTEND;TZID=Europe/London:20260121T163000
DTSTAMP:20260420T020247
CREATED:20260119T204314Z
LAST-MODIFIED:20260119T204314Z
UID:1243-1769011200-1769013000@www.stmaryos.org.uk
SUMMARY:Evening Prayer
DESCRIPTION:Evening Prayer\nA said service of Evening Prayer.
URL:https://www.stmaryos.org.uk/event/2026-01-21-evening-prayer/
LOCATION:St Mary’s Church\, Rectory Road\, Stourbridge\, West Midlands\, DY8 2HA\, United Kingdom
CATEGORIES:Worship
ORGANIZER;CN="St Mary's Church%2C Oldswinford":MAILTO:office@stmaryos.org.uk
END:VEVENT
BEGIN:VEVENT
DTSTART;TZID=Europe/London:20260121T090000
DTEND;TZID=Europe/London:20260121T093000
DTSTAMP:20260420T020247
CREATED:20260119T204313Z
LAST-MODIFIED:20260119T204313Z
UID:1242-1768986000-1768987800@www.stmaryos.org.uk
SUMMARY:Morning Prayer
DESCRIPTION:Morning Prayer\nA said service of Morning Prayer.
URL:https://www.stmaryos.org.uk/event/2026-01-21-morning-prayer/
LOCATION:St Mary’s Church\, Rectory Road\, Stourbridge\, West Midlands\, DY8 2HA\, United Kingdom
CATEGORIES:Worship
ORGANIZER;CN="St Mary's Church%2C Oldswinford":MAILTO:office@stmaryos.org.uk
END:VEVENT
BEGIN:VEVENT
DTSTART;TZID=Europe/London:20260120T160000
DTEND;TZID=Europe/London:20260120T163000
DTSTAMP:20260420T020247
CREATED:20260126T082450Z
LAST-MODIFIED:20260126T082450Z
UID:1233-1768924800-1768926600@www.stmaryos.org.uk
SUMMARY:Evening Prayer
DESCRIPTION:Evening Prayer\nA said service of Evening Prayer.
URL:https://www.stmaryos.org.uk/event/2026-01-20-evening-prayer/
LOCATION:St Mary’s Church\, Rectory Road\, Stourbridge\, West Midlands\, DY8 2HA\, United Kingdom
CATEGORIES:Worship
ORGANIZER;CN="St Mary's Church%2C Oldswinford":MAILTO:office@stmaryos.org.uk
END:VEVENT
BEGIN:VEVENT
DTSTART;TZID=Europe/London:20260120T090000
DTEND;TZID=Europe/London:20260120T093000
DTSTAMP:20260420T020247
CREATED:20260126T082450Z
LAST-MODIFIED:20260126T082450Z
UID:1232-1768899600-1768901400@www.stmaryos.org.uk
SUMMARY:Morning Prayer
DESCRIPTION:Morning Prayer\nA said service of Morning Prayer.
URL:https://www.stmaryos.org.uk/event/2026-01-20-morning-prayer/
LOCATION:St Mary’s Church\, Rectory Road\, Stourbridge\, West Midlands\, DY8 2HA\, United Kingdom
CATEGORIES:Worship
ORGANIZER;CN="St Mary's Church%2C Oldswinford":MAILTO:office@stmaryos.org.uk
END:VEVENT
BEGIN:VEVENT
DTSTART;TZID=Europe/London:20260118T183000
DTEND;TZID=Europe/London:20260118T193000
DTSTAMP:20260420T020247
CREATED:20260119T204408Z
LAST-MODIFIED:20260119T204408Z
UID:1280-1768761000-1768764600@www.stmaryos.org.uk
SUMMARY:Taizé or Iona Celtic Service (evening)
DESCRIPTION:A Taizé or Iona Celtic worship service\nA Taizé or Iona Celtic worship service involves sung and chanted prayers\, meditations\, a period of silence\, liturgical readings\, and icons.
URL:https://www.stmaryos.org.uk/event/2026-01-18-taize-or-iona-celtic-service-evening/
LOCATION:St Mary’s Church\, Rectory Road\, Stourbridge\, West Midlands\, DY8 2HA\, United Kingdom
CATEGORIES:Worship
ATTACH;FMTTYPE=image/jpeg:https://www.stmaryos.org.uk/wp-content/uploads/2026/01/candles-492171_1280-1-e1768769670181.jpg
ORGANIZER;CN="St Mary's Church%2C Oldswinford":MAILTO:office@stmaryos.org.uk
END:VEVENT
BEGIN:VEVENT
DTSTART;TZID=Europe/London:20260118T160000
DTEND;TZID=Europe/London:20260118T170000
DTSTAMP:20260420T020247
CREATED:20260119T204409Z
LAST-MODIFIED:20260119T204409Z
UID:1281-1768752000-1768755600@www.stmaryos.org.uk
SUMMARY:Singing Angels (afternoon)
DESCRIPTION:Singing Angels\n \nA multigenerational group for children and adults who love to sing. \nA fun session on the second Sunday of each much including refreshments at no cost.
URL:https://www.stmaryos.org.uk/event/2026-01-18-singing-angels-afternoon/
LOCATION:St Mary’s Church\, Rectory Road\, Stourbridge\, West Midlands\, DY8 2HA\, United Kingdom
CATEGORIES:Family Service
ATTACH;FMTTYPE=image/jpeg:https://www.stmaryos.org.uk/wp-content/uploads/2026/01/singingangels-e1768496539880-1-e1768767763764.jpg
ORGANIZER;CN="St Mary's Church%2C Oldswinford":MAILTO:office@stmaryos.org.uk
END:VEVENT
BEGIN:VEVENT
DTSTART;TZID=Europe/London:20260118T100000
DTEND;TZID=Europe/London:20260118T111500
DTSTAMP:20260420T020247
CREATED:20260119T204407Z
LAST-MODIFIED:20260119T204407Z
UID:1279-1768730400-1768734900@www.stmaryos.org.uk
SUMMARY:Parish Communion (morning)
DESCRIPTION:Parish Holy Communion Service from the Book of Common Worship.
URL:https://www.stmaryos.org.uk/event/2026-01-18-parish-communion-morning/
LOCATION:St Mary’s Church\, Rectory Road\, Stourbridge\, West Midlands\, DY8 2HA\, United Kingdom
CATEGORIES:Communion,Worship
ATTACH;FMTTYPE=image/jpeg:https://www.stmaryos.org.uk/wp-content/uploads/2026/01/PXL_20240421_091848730-scaled-1-1-e1768516811542.jpg
ORGANIZER;CN="St Mary's Church%2C Oldswinford":MAILTO:office@stmaryos.org.uk
END:VEVENT
BEGIN:VEVENT
DTSTART;TZID=Europe/London:20260116T160000
DTEND;TZID=Europe/London:20260116T163000
DTSTAMP:20260420T020247
CREATED:20260119T204347Z
LAST-MODIFIED:20260119T204347Z
UID:1267-1768579200-1768581000@www.stmaryos.org.uk
SUMMARY:Evening Prayer
DESCRIPTION:Evening Prayer\nA said service of Evening Prayer.
URL:https://www.stmaryos.org.uk/event/2026-01-16-evening-prayer/
LOCATION:St Mary’s Church\, Rectory Road\, Stourbridge\, West Midlands\, DY8 2HA\, United Kingdom
CATEGORIES:Worship
ORGANIZER;CN="St Mary's Church%2C Oldswinford":MAILTO:office@stmaryos.org.uk
END:VEVENT
BEGIN:VEVENT
DTSTART;TZID=Europe/London:20260116T090000
DTEND;TZID=Europe/London:20260116T093000
DTSTAMP:20260420T020247
CREATED:20260119T204346Z
LAST-MODIFIED:20260119T204346Z
UID:1266-1768554000-1768555800@www.stmaryos.org.uk
SUMMARY:Morning Prayer
DESCRIPTION:Morning Prayer\nA said service of Morning Prayer.
URL:https://www.stmaryos.org.uk/event/2026-01-16-morning-prayer/
LOCATION:St Mary’s Church\, Rectory Road\, Stourbridge\, West Midlands\, DY8 2HA\, United Kingdom
CATEGORIES:Worship
ORGANIZER;CN="St Mary's Church%2C Oldswinford":MAILTO:office@stmaryos.org.uk
END:VEVENT
BEGIN:VEVENT
DTSTART;TZID=Europe/London:20260115T160000
DTEND;TZID=Europe/London:20260115T163000
DTSTAMP:20260420T020247
CREATED:20260119T204324Z
LAST-MODIFIED:20260119T204324Z
UID:1250-1768492800-1768494600@www.stmaryos.org.uk
SUMMARY:Evening Prayer
DESCRIPTION:Evening Prayer\nA said service of Evening Prayer.
URL:https://www.stmaryos.org.uk/event/2026-01-15-evening-prayer/
LOCATION:St Mary’s Church\, Rectory Road\, Stourbridge\, West Midlands\, DY8 2HA\, United Kingdom
CATEGORIES:Worship
ORGANIZER;CN="St Mary's Church%2C Oldswinford":MAILTO:office@stmaryos.org.uk
END:VEVENT
BEGIN:VEVENT
DTSTART;TZID=Europe/London:20260115T103000
DTEND;TZID=Europe/London:20260115T111500
DTSTAMP:20260420T020247
CREATED:20260119T204325Z
LAST-MODIFIED:20260119T204325Z
UID:1251-1768473000-1768475700@www.stmaryos.org.uk
SUMMARY:Holy Communion (morning)
DESCRIPTION:Holy Communion from the Book of Common Prayer.
URL:https://www.stmaryos.org.uk/event/2026-01-15-holy-communion-morning/
LOCATION:St Mary’s Church\, Rectory Road\, Stourbridge\, West Midlands\, DY8 2HA\, United Kingdom
CATEGORIES:Communion,Worship
ATTACH;FMTTYPE=image/jpeg:https://www.stmaryos.org.uk/wp-content/uploads/2026/01/PXL_20240421_091848730-scaled-1-1-e1768516811542.jpg
ORGANIZER;CN="St Mary's Church%2C Oldswinford":MAILTO:office@stmaryos.org.uk
END:VEVENT
BEGIN:VEVENT
DTSTART;TZID=Europe/London:20260115T090000
DTEND;TZID=Europe/London:20260115T093000
DTSTAMP:20260420T020247
CREATED:20260119T204323Z
LAST-MODIFIED:20260119T204323Z
UID:1249-1768467600-1768469400@www.stmaryos.org.uk
SUMMARY:Morning Prayer
DESCRIPTION:Morning Prayer\nA said service of Morning Prayer.
URL:https://www.stmaryos.org.uk/event/2026-01-15-morning-prayer/
LOCATION:St Mary’s Church\, Rectory Road\, Stourbridge\, West Midlands\, DY8 2HA\, United Kingdom
CATEGORIES:Worship
ORGANIZER;CN="St Mary's Church%2C Oldswinford":MAILTO:office@stmaryos.org.uk
END:VEVENT
BEGIN:VEVENT
DTSTART;TZID=Europe/London:20260114T190000
DTEND;TZID=Europe/London:20260114T200000
DTSTAMP:20260420T020247
CREATED:20260126T082521Z
LAST-MODIFIED:20260126T082521Z
UID:1241-1768417200-1768420800@www.stmaryos.org.uk
SUMMARY:Encounter Meditation
DESCRIPTION:Encounter Meditation
URL:https://www.stmaryos.org.uk/event/2026-01-14-encounter-meditation/
LOCATION:St Mary’s Church\, Rectory Road\, Stourbridge\, West Midlands\, DY8 2HA\, United Kingdom
CATEGORIES:Meditation,Worship
ATTACH;FMTTYPE=image/jpeg:https://www.stmaryos.org.uk/wp-content/uploads/2026/01/candle-335965_1280-e1768830211989.jpg
ORGANIZER;CN="St Mary's Church%2C Oldswinford":MAILTO:office@stmaryos.org.uk
END:VEVENT
BEGIN:VEVENT
DTSTART;TZID=Europe/London:20260114T160000
DTEND;TZID=Europe/London:20260114T163000
DTSTAMP:20260420T020247
CREATED:20260119T204310Z
LAST-MODIFIED:20260119T204310Z
UID:1240-1768406400-1768408200@www.stmaryos.org.uk
SUMMARY:Evening Prayer
DESCRIPTION:Evening Prayer\nA said service of Evening Prayer.
URL:https://www.stmaryos.org.uk/event/2026-01-14-evening-prayer/
LOCATION:St Mary’s Church\, Rectory Road\, Stourbridge\, West Midlands\, DY8 2HA\, United Kingdom
CATEGORIES:Worship
ORGANIZER;CN="St Mary's Church%2C Oldswinford":MAILTO:office@stmaryos.org.uk
END:VEVENT
BEGIN:VEVENT
DTSTART;TZID=Europe/London:20260114T090000
DTEND;TZID=Europe/London:20260114T093000
DTSTAMP:20260420T020247
CREATED:20260119T204309Z
LAST-MODIFIED:20260119T204309Z
UID:1239-1768381200-1768383000@www.stmaryos.org.uk
SUMMARY:Morning Prayer
DESCRIPTION:Morning Prayer\nA said service of Morning Prayer.
URL:https://www.stmaryos.org.uk/event/2026-01-14-morning-prayer/
LOCATION:St Mary’s Church\, Rectory Road\, Stourbridge\, West Midlands\, DY8 2HA\, United Kingdom
CATEGORIES:Worship
ORGANIZER;CN="St Mary's Church%2C Oldswinford":MAILTO:office@stmaryos.org.uk
END:VEVENT
END:VCALENDAR